Workbook

Sheet Schedule
B3: Schedule 2026
B5: Friday 1st April | D5: 6pm | E5: all
B8: Sat 2nd April | D8: 12pm | E8: Mixed Doubles
D9: 2pm | E9: Ladies Doubles | G9: Mens Doubles
D10: 4pm | E10: Ladies Singles | G10: Mens Singles
B12: Sunday 3rd April | D12: 8am | E12: Mens Singles
D13: 10am | E13: Mixed Doubles
D14: 12pm | E14: Ladies Singles | G14: Mens Singles
D15: 2pm | E15: Ladies Doubles | G15: Mens Doubles
D16: 4pm | E16: Mixed Doubles
B21: Friday 1st April | D21: 6:00pm Fri 1st April
D22: 7:00pm Fri 1st April | G22: Mens Singles
B24: Sat 2nd April | D24: 12:00pm Sat 2nd April | E24: Mixed Doubles
D25: 1:30pm Sat 2nd April | I25: Mens Doubles
D26: 3:00pm Sat 2nd April | E26: Mixed Doubles
D27: 4:30pm Sat 2nd April | G27: Mens Singles | H27: Ladies Doubles
B29: Sunday 3rd April | D29: 8:30am Sun 3rd April | I29: Mens Doubles
D30: 10:00am Sun 3rd April | G30: Mens Singles | H30: Ladies Doubles
D31: 11:30am Sun 3rd April | E31: Mixed Doubles
D32: 1:00pm Sun 3rd April | G32: Mens Singles
D33: 2:30pm Sun 3rd April | H33: Ladies Doubles | I33: Mens Doubles
D34: 4:00pm Sun 3rd April | E34: Mixed Doubles
B38: Saturday 25th March | D38: 12:00pm Sat 25th March | E38: Mixed Doubles
D39: 2:00pm Sat 25th March | G39: Mens Singles | H39: Ladies Doubles
D40: 3:00pm Sat 25th March
D41: 4:00pm Sat 25th March | I41: Mens Doubles
B43: Sunday 26th March | D43: 8:00am Sun 26th March | G43: Mens Singles | H43: Ladies Doubles
D44: 10:00am Sun 26th March | I44: Mens Doubles
D45: 12:00pm Sun 26th March | E45: Mixed Doubles
D46: 2:00pm Sun 26th March | G46: Mens Singles | H46: Ladies Doubles
D47: 4:00pm Sun 26th March | E47: Mixed Doubles
B50: Saturday 1st April | D50: 12:00pm Sat 1st April | I50: Mens Doubles
D51: 2:00pm Sat 1st April | G51: Mens Singles | H51: Ladies Doubles
D52: 4:00pm Sat 1st April | E52: Mixed Doubles
M55: PLATE | N55: PLATE | O55: PLATE | P55: PLATE | Q55: PLATE
B56: Saturday 1st April | D56: 9:30am Sat 1st April | E56: Mixed Doubles | O56: Ladies Singles
D57: 12:00pm Sat 1st April | G57: Mens Singles | H57: Ladies Doubles | N57: Mens Singles | P57: Ladies Doubles
D58: 2:00pm Sat 1st April | E58: Mixed Doubles | O58: Ladies Singles | Q58: Mens Doubles
D59: 4:00pm Sat 1st April | I59: Mens Doubles | M59: Mixed Doubles
M63: Mixed Doubles Plate | N63: Men's Singles Plate | O63: Ladies' Singles Plate | P63: Men's Doubles Plate | Q63: Ladies' Doubles Plate
...

Sheet Mixed Doubles draft
B2: PGTC Club Championships - 2022
B3: Event: | D3: Mixed Doubles - Open
B5: Seeding | C5: Quarter-finals | F5: Semi-finals | I5: Final | P5: Participants
O6: 1 | P6: Alisha Boelin & Dale Raynes
O7: 2 | P7: Stacey Holmnas & Henry Willis
B8: 1 | O8: 3 | P8: Annabel Stewart & Rodrigo Saavedra
O9: 4 | P9: Simonne Ventouras & Hamish Tedeschi
O10: 5 | P10: Christine Rao & Jason Crage
O11: 6 | P11: Bridie Howe-Keetelaar & Georgie Perez
B12: 8 | O12: 7 | P12: Helene & David Hansen
O13: 8 | P13: Susie & Peter Phillips
O14: 9 | P14: Lydia Winter & Ben Styles
O15: 10 | P15: Ann-Marie Hogan & Matt Wigham
B16: 5 | O16: 11 | P16: Alex Cann & Troy Hargreaves
O17: 12 | P17: Kate Ventouras & Brendan Jones
O18: 13 | P18: Emma Hann & Ryan Goodwin
O19: 14 | P19: Caitlin Hindmarsh &
B20: 4 | O20: 15 | P20: Janie Binet & Peter Getgood
B24: 3
B28: 6
B32: 7
B36: 2

Sheet Mens Singles 2026
A1: PGTC Club Championships - 2026
A2: Event: | B2: Mens' Singles - Open
A3: Seeding | B3: 1st Round | C3: Quarter-finals | D3: Semi-finals | E3: Final | F3: Winner | J3: Participants
B4: 5pm Fri 20th March | I4: 1 | J4: Rodrigo Saavedra
I5: 2 | J5: Georgie Perez
A6: 1 | B6: =L12 -> Enzo Silveira | I6: 3 | J6: Henry De Keulenaer | K6: 3 | L6: Scott Perry
I7: 4 | J7: Bart De Keulenaer | L7: Noah Brinsden
C8: =L12 -> Enzo Silveira | I8: 5 | J8: Troy Hargreaves | K8: 4 | L8: Adam Howard
I9: 6 | J9: Hamish Tedeschi | L9: Vladimir Yakunin
B10: =L19 -> BYE | I10: 7 | J10: Henry Willis | K10: 2 | L10: Julien Rauber
I11: 8 | J11: Pranayan Mahendranathan | L11: Hamish Tedeschi
I12: 9 | J12: Sevvel Mahendranathan | K12: 1 | L12: Enzo Silveira
I13: 10 | J13: Ben Luscombe | L13: Graeme Morissey
B14: =+L7 -> Noah Brinsden | I14: 11 | J14: Ryan Godwin | L14: Nick Muir
I15: 12 | J15: Brendan Jones | L15: Daniel Carew Reid
I16: 13 | J16: Chris Mitchell | L16: Vinny Herrera
I17: 14 | J17: Dave Hansen | L17: Jasper Constantine
B18: =+L15 -> Daniel Carew Reid | I18: 15 | J18: Bye | L18: Zlatan Golic
I19: 16 | J19: Bye | L19: BYE
B21: =+L11 -> Hamish Tedeschi
B25: =L9 -> Vladimir Yakunin
B29: =+L18 -> Zlatan Golic
A33: 4 | B33: =L8 -> Adam Howard
A35: 3 | B35: =L6 -> Scott Perry
C37: =L6 -> Scott Perry
B39: =+L19 -> BYE
B42: =L13 -> Graeme Morissey
B46: =L17 -> Jasper Constantine
B49: =L16 -> Vinny Herrera
B53: =L14 -> Nick Muir
B56: =+L19 -> BYE
C58: =L10 -> Julien Rauber
A59: 2 | B59: =L10 -> Julien Rauber

Sheet Ladies Singles 2026
A1: PGTC Club Championships - 2026
A2: Event: | B2: Ladies' Singles - Open
A3: Seeding | B3: 1st Round | C3: Quarter-finals | D3: Semi-finals | E3: Final | F3: Winner | J3: Participants
B4: 5pm Fri 20th March | I4: 1 | J4: Rodrigo Saavedra
A6: 1 | B6: =L12 -> Nisha Whittome | I6: 2 | J6: Georgie Perez | L6: Mei Hill Wilson
I7: 3 | J7: Henry De Keulenaer | K7: 3 | L7: Sam Hemachandra
C8: =L12 -> Nisha Whittome | I8: 4 | J8: Bart De Keulenaer | L8: Melinda Hayes
I9: 5 | J9: Troy Hargreaves | K9: 4 | L9: Lydia Winter
B10: =L18 -> BYE | I10: 6 | J10: Hamish Tedeschi | L10: Giselle Scutti
D11: =L12 -> Nisha Whittome | I11: 7 | J11: Henry Willis | K11: 2 | L11: May White
I12: 8 | J12: Pranayan Mahendranathan | K12: 1 | L12: Nisha Whittome
C13: BYE | I13: 9 | J13: Sevvel Mahendranathan | L13: Carly Franc
I14: 10 | J14: Ben Luscombe | L14: Mia Yeo
I15: 11 | J15: Ryan Godwin | L15: Bridie Howe
I16: 12 | J16: Brendan Jones | L16: Mel Love
B17: =L8 -> Melinda Hayes | I17: 13 | J17: Chris Mitchell | L17: Sally Bell
I18: 14 | J18: Dave Hansen | L18: BYE
I19: 15 | J19: Bye
I20: 16 | J20: Bye
B21: =L10 -> Giselle Scutti
B24: =+L17 -> Sally Bell
A28: 4 | B28: =L9 -> Lydia Winter
A30: 3 | B30: =L7 -> Sam Hemachandra
B34: =L6 -> Mei Hill Wilson
B37: =L13 -> Carly Franc
B40: =L16 -> Mel Love
B43: =L15 -> Bridie Howe
B46: =+L14 -> Mia Yeo
B48: =+L18 -> BYE
C50: =+L11 -> May White
A52: 2 | B52: =+L11 -> May White

Sheet Mixed Doubles 2026
B1: PGTC Club Championships - 2026
B2: Event: | C2: Mixed Doubles - Open
B3: Seeding | C3: 1st Round | D3: Quarter-finals | E3: Semi-finals | F3: Final | G3: Winner | K3: Participants
C4: 7pm Fri 20th March | J4: 1 | K4: Alisha Boelin & Dale Raynes
J5: 2 | K5: Stacey Holmnas & Henry Willis
B6: 1 | C6: =Q9 -> Pip Pienaar & Graeme Morissey | J6: 3 | K6: Annabel Stewart & Rodrigo Saavedra | M6: 3 | N6: Helene & David Hansen | Q6: Fiona & Noah Brinsden
J7: 4 | K7: Simonne Ventouras & Hamish Tedeschi | M7: 6 | N7: Alishia Boelen & Troy Hargreaves | Q7: Lydia Winter & Adam Howard
D8: =C6 -> Pip Pienaar & Graeme Morissey | J8: 5 | K8: Christine Rao & Jason Crage | M8: 4 | N8: Bridie Howe-Keetelaar & Georgie Perez | P8: 4 | Q8: Bek Stubbs & Hamish Tedeschi
J9: 6 | K9: Bridie Howe-Keetelaar & Georgie Perez | M9: 8 | N9: Sarah Devine & Matt Wigham | P9: 1 | Q9: Pip Pienaar & Graeme Morissey
C10: BYE | J10: 7 | K10: Helene & David Hansen | M10: 9 | N10: Susannah & Peter Phillips | P10: 3 | Q10: Helene Hansen & Dave Scott
J11: 8 | K11: Susie & Peter Phillips | M11: 12 | N11: Carly Franc & Dale Raynes | Q11: Susannah & Peter Phillips
J12: 9 | K12: Lydia Winter & Ben Styles | M12: 10 | N12: Lydia Winter & Ben Styles | Q12: Bridie Howe & Julien Rauber
J13: 10 | K13: Ann-Marie Hogan & Matt Wigham | M13: 1 | N13: Nisha Whittome & Sam Chapman | Q13: Jade Harris & Scott Perry
C14: =Q12 -> Bridie Howe & Julien Rauber | J14: 11 | K14: Alex Cann & Troy Hargreaves | M14: 7 | N14: Kate Ventouras & Brendan Jones | Q14: Emma Hann & Vinny Herrera
J15: 12 | K15: Kate Ventouras & Brendan Jones | M15: 5 | N15: Ann-Marie Hogan & Rodrigo Saavedra | P15: 2 | Q15: Romelie Grayson & Enzo Silveira
J16: 13 | K16: Emma Hann & Ryan Goodwin | M16: 11 | N16: Annabel Stewart & Mike Williams | Q16: Simonne Ventouras & Ben Styles
J17: 14 | K17: Janie Binet & Peter Getgood | M17: 2 | N17: Simonne Ventouras & Hamish Tedeschi
C18: =Q11 -> Susannah & Peter Phillips | J18: 15 | K18: Bye | M18: 13 | N18: Janie Binet & Richard Elsey
J19: 16 | K19: Bye
N21: Plate event = 5 teams
C22: =Q16 -> Simonne Ventouras & Ben Styles
C26: =Q13 -> Jade Harris & Scott Perry
C30: BYE
D32: =C34 -> Bek Stubbs & Hamish Tedeschi
B34: 4 | C34: =Q8 -> Bek Stubbs & Hamish Tedeschi
B38: 3 | C38: =Q10 -> Helene Hansen & Dave Scott
D40: =C38 -> Helene Hansen & Dave Scott
C42: BYE
C46: =Q14 -> Emma Hann & Vinny Herrera
C50: =Q6 -> Fiona & Noah Brinsden
C54: =Q7 -> Lydia Winter & Adam Howard
D56: =C54 -> Lydia Winter & Adam Howard
C58: BYE
C62: BYE
D64: =C66 -> Romelie Grayson & Enzo Silveira
B66: 2 | C66: =Q15 -> Romelie Grayson & Enzo Silveira

Sheet Mixed Doubles Div 2 - RR
A1: PGTC Club Championships - 2026
A2: Mixed Doubles Div 2
A3: 4pm Fri 20th March
A5: Prue Chaffey & Richard Elsey
A6: Sue Nash & Andrew Dimsey
A7: Dawne Horrex & Peter Getgood
A8: Mia Yeo & Jasper Colwell
A9: Sally Bell & Vladimir Yakunin
A10: Melinda Hayes & Zlatan Golic
A13: Round robin 1 TB set - winner is the team with most games

Sheet Ladies Doubles 2026
A1: PGTC Club Championships - 2026
A2: Event: | B2: Ladies' Doubles - Open
A3: Seeding | B3: 1st Round | C3: Quarter-finals | D3: Semi-finals | E3: Final | F3: Winner | J3: Participants
B4: 12pm Sat 21st March | I4: 1 | J4: Alisha Boelin & Dale Raynes
I5: 2 | J5: Stacey Holmnas & Henry Willis
A6: 1 | B6: =P10 -> Lydia Winter & Michelle Lavender | I6: 3 | J6: Annabel Stewart & Rodrigo Saavedra | L6: 7 | M6: Bridie Howe-Keetelaar & Larisa Khoury | O6: 4 | P6: Bek Stubbs & Mareena Weston | U6: not available Sat morning
I7: 4 | J7: Simonne Ventouras & Hamish Tedeschi | L7: 10 | M7: Christine Rao & Sarah Devine | O7: 2 | P7: Helene Hansen & Romelie Grayson
C8: =B6 -> Lydia Winter & Michelle Lavender | I8: 5 | J8: Christine Rao & Jason Crage | L8: 6 | M8: Susannah Phillips & Emily Hamersley | O8: 3 | P8: Ava & May White
I9: 6 | J9: Bridie Howe-Keetelaar & Georgie Perez | L9: 9 | M9: Carly Franc & Lisa Wah Day | P9: Fiona Brinsden & Sonya Krishnan
B10: BYE | I10: 7 | J10: Helene & David Hansen | L10: 8 | M10: Susan Whittome & Penny Di Giovanni | O10: 1 | P10: Lydia Winter & Michelle Lavender
I11: 8 | J11: Susie & Peter Phillips | L11: 2 | M11: Giselle Scutti & Lydia Winter | P11: Bridie Howe & Carly Franc
I12: 9 | J12: Lydia Winter & Ben Styles | L12: 4 | M12: Kate Ventouras & Annabel Stewart | P12: Giselle Scutti & Sam Hemachandra
I13: 10 | J13: Ann-Marie Hogan & Matt Wigham | L13: 5 | M13: Ann-Marie Hogan & Bron Stell | P13: Georgia Pugh & Harriet Page
B14: =P11 -> Bridie Howe & Carly Franc | I14: 11 | J14: Alex Cann & Troy Hargreaves | L14: 11 | M14: Alisha Boelen & Jemma Simpson | P14: Emma Hann & Simonne Ventouras | U14: Div 2 requested
I15: 12 | J15: Kate Ventouras & Brendan Jones | L15: 1 | M15: Helene Hansen & Sam Hemachandra
I16: 13 | J16: Emma Hann & Ryan Goodwin | L16: 3 | M16: Simonne Ventouras & Emma Hann
I17: 14 | J17: Janie Binet & Peter Getgood
B18: =P14 -> Emma Hann & Simonne Ventouras | I18: 15 | J18: Bye
I19: 16 | J19: Bye
M20: Plate event = 3 players
B22: =P9 -> Fiona Brinsden & Sonya Krishnan
C24: =P9 -> Fiona Brinsden & Sonya Krishnan
B26: BYE
B30: BYE
C32: =P6 -> Bek Stubbs & Mareena Weston
A34: 4 | B34: =P6 -> Bek Stubbs & Mareena Weston
A38: 3 | B38: =P8 -> Ava & May White
C40: =B38 -> Ava & May White
B42: BYE
B46: BYE
C48: =B50 -> Georgia Pugh & Harriet Page
B50: =P13 -> Georgia Pugh & Harriet Page
B54: =P12 -> Giselle Scutti & Sam Hemachandra
C56: =B54 -> Giselle Scutti & Sam Hemachandra
B58: BYE
B62: BYE
C64: =B66 -> Helene Hansen & Romelie Grayson
A66: 2 | B66: =P7 -> Helene Hansen & Romelie Grayson

Sheet Ladies Doubles Div 2 -RR
A1: PGTC Club Championships - 2026
A2: Ladies' Doubles Div 2
A3: 5pm Fri 20th March
A5: Catherine Strickland & Melody Perry
A6: Mel Hayes & Mel Love
A7: Anabel Gomez & Grace Jones
A8: Cherie Madalena & Christine Rao
A9: Mei Hill Wilson & Mia Yeo
A12: Round robin 1 TB set - winner is the team with most games

Sheet Mens Doubles 2026
A1: PGTC Club Championships - 2026
A2: Event: | B2: Mens' Doubles - Open
A3: Seeding | B3: 1st Round | C3: Quarter-finals | D3: Semi-finals | E3: Final | F3: Winner | J3: Participants
B4: 5pm Fri 20th March | I4: 1 | J4: Alisha Boelin & Dale Raynes
I5: 2 | J5: Stacey Holmnas & Henry Willis
A6: 1 | B6: =P9 -> Enzo Silveira & Vinny Herrera | I6: 3 | J6: Annabel Stewart & Rodrigo Saavedra | L6: 7 | M6: Bridie Howe-Keetelaar & Larisa Khoury | P6: Graeme Morrisey & Jasper Constantine
I7: 4 | J7: Simonne Ventouras & Hamish Tedeschi | L7: 10 | M7: Christine Rao & Sarah Devine | O7: 3 | P7: Daniel Carew -Reid & Gen Naraya
C8: =B6 -> Enzo Silveira & Vinny Herrera | I8: 5 | J8: Christine Rao & Jason Crage | L8: 6 | M8: Susannah Phillips & Emily Hamersley | P8: Ben Styles & Dale Raynes
I9: 6 | J9: Bridie Howe-Keetelaar & Georgie Perez | L9: 9 | M9: Carly Franc & Lisa Wah Day | O9: 1 | P9: Enzo Silveira & Vinny Herrera
I10: 7 | J10: Helene & David Hansen | L10: 8 | M10: Susan Whittome & Penny Di Giovanni | O10: 2 | P10: Nick Muir & Scott Perry
D11: =B6 -> Enzo Silveira & Vinny Herrera | I11: 8 | J11: Susie & Peter Phillips | L11: 2 | M11: Giselle Scutti & Lydia Winter | O11: 4 | P11: David Hansen & Hamish Tedeschi
I12: 10 | J12: Ann-Marie Hogan & Matt Wigham | L12: 5 | M12: Ann-Marie Hogan & Bron Stell
I13: 12 | J13: Kate Ventouras & Brendan Jones | L13: 1 | M13: Helene Hansen & Sam Hemachandra
C14: BYE | I14: 13 | J14: Emma Hann & Ryan Goodwin | L14: 3 | M14: Simonne Ventouras & Emma Hann
I15: 14 | J15: Janie Binet & Peter Getgood
B17: =P8 -> Ben Styles & Dale Raynes
C19: =B17 -> Ben Styles & Dale Raynes
C25: =B27 -> David Hansen & Hamish Tedeschi
A27: 4 | B27: =P11 -> David Hansen & Hamish Tedeschi
A31: 3 | B31: =P7 -> Daniel Carew -Reid & Gen Naraya
C33: =B31 -> Daniel Carew -Reid & Gen Naraya
C39: =B41 -> Graeme Morrisey & Jasper Constantine
B41: =P6 -> Graeme Morrisey & Jasper Constantine
C45: BYE
D48: =B52 -> Nick Muir & Scott Perry
C50: =B52 -> Nick Muir & Scott Perry
A52: 2 | B52: =P10 -> Nick Muir & Scott Perry

Sheet Mens Doubles Div 2 -RR
A1: PGTC Club Championships - 2026
A2: Mens' Doubles Div 2
A3: 2pm Sat 21st March
A5: Peter Getgood & Richard Elsey
A6: David & Leo Scott
A7: Andrew Dimsey & Zlatan Golic
A10: Round robin 1 TB set - winner is the team with most games

Sheet Mens Doubles old
B2: =#REF! -> #REF!
B3: Event: | D3: Mens' Doubles - Open
B5: Seeding | C5: Quarter-finals | F5: Semi-finals | I5: Final | L5: Winner | P5: Participants
C6: =Schedule!D65 -> 7pm Fri 22nd March | F6: =Schedule!D75 -> 10:00am Sun 24th March | I6: =Schedule!D78 -> 4:00pm Sun 24th March | O6: 1 | P6: Rodrigo Saavedra & Georgie Perez
I7: Court 2 | O7: 2 | P7: Brendan Jones & Matt Wigham | Q7: 1
B8: 1 | O8: 3 | P8: David Hansen & Hamish Tedeschi | W8: Ben Styles & Matt Marinovich | AA8: Unavailable 11am-2pm Saturday
O9: 4 | P9: Troy Hargreaves & Henry Willis | Q9: 2 | W9: Dave Hansen & Hamish Tedeschi
O10: 5 | P10: Ben Luscombe & Francis Burke | T10: 3 | U10: Declan Cahill & Sam Chapman | W10: Ryan Binedell & Lachy Downe | AA10: paid?
O11: 6 | P11: Ryan Godwin & Chris Mitchell | T11: 2 | U11: Hamish Tedeschi & David Hansen | W11: Chris Evans & Petr Langer
O12: 7 | P12: Peter Getgood & partner | T12: 1 | U12: Chris Evans & Chris Moore | W12: Lloyd and Jasper Constantine
O13: 8 | P13: Bye | T13: 6 | U13: Lloyd & Jasper Constantine | W13: Ethan Rao & Oscar Crage
T14: 4 | U14: Peter Phillips & Sam Williams | W14: Peter Phillips & Sam Chapman | AA14: finish before 4pm Sat?
T15: 5 | U15: Ben Luscombe & Mike Williams | W15: Daniel Marshall & Daniel Carew-Reid
W16: Vinny Herrera & Julien Rauber
W17: Simon Simsic & Jordan Frieberg
U20: Plate event = 2 teams
B36: 2

Sheet Ladies Doubles 50+
B2: =#REF! -> #REF!
B3: Event: | D3: Ladies' Doubles - 50+
B5: Seeding | C5: 1st Round | F5: Quarter-finals | I5: Semi-finals | L5: Final | O5: Winner | S5: Participants
C6: =Schedule!D39 -> 2:00pm Sat 25th March | F6: =Schedule!D43 -> 8:00am Sun 26th March | I6: =Schedule!D46 -> 2:00pm Sun 26th March | L6: =Schedule!D57 -> 12:00pm Sat 1st April | R6: 1 | S6: Alisha Boelin & Dale Raynes
L7: Court 3 | R7: 2 | S7: Stacey Holmnas & Henry Willis
B8: 1 | R8: 3 | S8: Annabel Stewart & Rodrigo Saavedra | U8: 7 | V8: Bridie Howe-Keetelaar & Larisa Khoury | Y8: Emma Hann & Simonne Ventouras
R9: 4 | S9: Simonne Ventouras & Hamish Tedeschi | U9: 10 | V9: Christine Rao & Sarah Devine
R10: 5 | S10: Christine Rao & Jason Crage | U10: 6 | V10: Susannah Phillips & Emily Hamersley
R11: 6 | S11: Bridie Howe-Keetelaar & Georgie Perez | U11: 9 | V11: Carly Franc & Lisa Wah Day
R12: 7 | S12: Helene & David Hansen | U12: 8 | V12: Susan Whittome & Penny Di Giovanni
R13: 8 | S13: Susie & Peter Phillips | U13: 2 | V13: Giselle Scutti & Lydia Winter
R14: 9 | S14: Lydia Winter & Ben Styles | U14: 4 | V14: Kate Ventouras & Annabel Stewart
R15: 10 | S15: Ann-Marie Hogan & Matt Wigham | U15: 5 | V15: Ann-Marie Hogan & Bron Stell
R16: 11 | S16: Alex Cann & Troy Hargreaves | U16: 11 | V16: Alisha Boelen & Jemma Simpson
R17: 12 | S17: Kate Ventouras & Brendan Jones | U17: 1 | V17: Helene Hansen & Sam Hemachandra
R18: 13 | S18: Emma Hann & Ryan Goodwin | U18: 3 | V18: Simonne Ventouras & Emma Hann
R19: 14 | S19: Janie Binet & Peter Getgood
R20: 15 | S20: Bye
R21: 16 | S21: Bye
V22: Plate event = 3 players
B36: 4
B40: 3
B68: 2

Sheet Mens Doubles 50+
B2: =#REF! -> #REF!
B3: Event: | D3: Mens' Doubles - 50+
B5: Seeding | C5: Quarter-finals | F5: Semi-finals | I5: Final | L5: Winner | P5: Participants
C6: =Schedule!D41 -> 4:00pm Sat 25th March | F6: =Schedule!D44 -> 10:00am Sun 26th March | I6: =Schedule!D59 -> 4:00pm Sat 1st April | O6: 1 | P6: Rodrigo Saavedra & Georgie Perez
I7: Court 4 | O7: 2 | P7: Brendan Jones & Matt Wigham | Q7: 1
B8: 1 | O8: 3 | P8: David Hansen & Hamish Tedeschi | W8: Ben Luscombe & Henry Willis
O9: 4 | P9: Troy Hargreaves & Henry Willis | Q9: 2
O10: 5 | P10: Ben Luscombe & Francis Burke | T10: 3 | U10: Declan Cahill & Sam Chapman
O11: 6 | P11: Ryan Godwin & Chris Mitchell | T11: 2 | U11: Hamish Tedeschi & David Hansen
O12: 7 | P12: Peter Getgood & partner | T12: 1 | U12: Chris Evans & Chris Moore
O13: 8 | P13: Bye | T13: 6 | U13: Lloyd & Jasper Constantine
T14: 4 | U14: Peter Phillips & Sam Williams
T15: 5 | U15: Ben Luscombe & Mike Williams
U20: Plate event = 2 teams
B36: 2

Sheet Mens Singles draft
B2: PGTC Club Championships - 2022
B3: Event: | D3: Mens' Singles - Open
B5: Seeding | C5: Quarter-finals | F5: Semi-finals | I5: Final | P5: Participants
O6: 1 | P6: Rodrigo Saavedra
O7: 2 | P7: Georgie Perez
B8: 1 | O8: 3 | P8: Henry De Keulenaer
O9: 4 | P9: Bart De Keulenaer
O10: 5 | P10: Troy Hargreaves
O11: 6 | P11: Hamish Tedeschi
B12: 8 | O12: 7 | P12: Henry Willis
O13: 8 | P13: Pranayan Mahendranathan
O14: 9 | P14: Sevvel Mahendranathan
O15: 10 | P15: Ben Luscombe
B16: 5 | O16: 11 | P16: Ryan Godwin
O17: 12 | P17: Brendan Jones
O18: 13 | P18: Chris Mitchell
O19: 14 | P19: Bye
B20: 4 | O20: 15 | P20: Bye
O21: 16 | P21: Bye
B24: 3
B28: 6
B32: 7
B36: 2

Sheet Gen Doubles
B2: PGTC Club Championships - 2022
B3: Event: | D3: Generations Doubles
B5: Seeding | C5: Quarter-finals | F5: Semi-finals | I5: Final | P5: Participants
O6: 1 | P6: Kate & Simonne Ventouras
O7: 2
B8: 1 | O8: 3
O9: 4
O10: 5
O11: 6
B12: 8 | O12: 7
O13: 8
B16: 5
B20: 4
B24: 3
B28: 6
B32: 7
B36: 2

Sheet Over60 Mixed D
B2: PGTC Club Championships - 2022
B3: Event: | D3: 60 & over Mixed Doubles
B5: Seeding | C5: Quarter-finals | F5: Semi-finals | I5: Final | P5: Participants
O6: 1 | P6: Anne-Marie & Peter Hood
O7: 2 | P7: Janie Binet & Peter Getgood
B8: 1 | O8: 3
O9: 4
O10: 5
O11: 6
B12: 8 | O12: 7
O13: 8
B16: 5
B20: 4
B24: 3
B28: 6
B32: 7
B36: 2

Sheet Over60 Ladies D
B2: PGTC Club Championships - 2022
B3: Event: | D3: 60 & over Ladies' Doubles
B5: Seeding | C5: Quarter-finals | F5: Semi-finals | I5: Final | P5: Participants
O6: 1 | P6: Sue Nash & Anne-Marie Hood
O7: 2 | P7: Janie Binet & Judy Lonsdale
B8: 1 | O8: 3
O9: 4
O10: 5
O11: 6
B12: 8 | O12: 7
O13: 8
B16: 5
B20: 4
B24: 3
B28: 6
B32: 7
B36: 2

Sheet Over60 Mens D
B2: PGTC Club Championships - 2022
B3: Event: | D3: 60 & over Mens' Doubles
B5: Seeding | C5: Quarter-finals | F5: Semi-finals | I5: Final | P5: Participants
O6: 1 | P6: Peter Getgood & partner
O7: 2
B8: 1 | O8: 3
O9: 4
O10: 5
O11: 6
B12: 8 | O12: 7
O13: 8
B16: 5
B20: 4
B24: 3
B28: 6
B32: 7
B36: 2
